BEGIN:VCALENDAR
VERSION:2.0
PRODID:-//Andrew London - ECPv4.9.13//NONSGML v1.0//EN
CALSCALE:GREGORIAN
METHOD:PUBLISH
X-WR-CALNAME:Andrew London
X-ORIGINAL-URL:https://andrewlondon.co.nz
X-WR-CALDESC:Events for Andrew London
BEGIN:VTIMEZONE
TZID:Pacific/Auckland
BEGIN:STANDARD
TZOFFSETFROM:+1300
TZOFFSETTO:+1200
TZNAME:NZST
DTSTART:20190406T140000
END:STANDARD
BEGIN:DAYLIGHT
TZOFFSETFROM:+1200
TZOFFSETTO:+1300
TZNAME:NZDT
DTSTART:20190928T140000
END:DAYLIGHT
END:VTIMEZONE
BEGIN:VEVENT
DTSTART;TZID=Pacific/Auckland:20191213T180000
DTEND;TZID=Pacific/Auckland:20191213T210000
DTSTAMP:20191218T200416
CREATED:20190724T214243Z
LAST-MODIFIED:20190724T214243Z
UID:1665-1576260000-1576270800@andrewlondon.co.nz
SUMMARY:Andrew & Kirsten at Otaki RSA
DESCRIPTION:Bring dancing shoes or singing voice! \nFacebookTwitterPinterest
URL:https://andrewlondon.co.nz/event/andrew-kirsten-at-otaki-rsa-5/
LOCATION:Otaki RSA\, 9 Raukawa Street\, Otaki\, Kapiti\, 2110\, New Zealand
CATEGORIES:Gigs
ATTACH;FMTTYPE=image/jpeg:https://andrewlondon.co.nz/wp-content/uploads/2018/04/IMG_2210-1.jpg
END:VEVENT
END:VCALENDAR