BEGIN:VCALENDAR
VERSION:2.0
PRODID:-//Andrew London - ECPv4.9.13//NONSGML v1.0//EN
CALSCALE:GREGORIAN
METHOD:PUBLISH
X-WR-CALNAME:Andrew London
X-ORIGINAL-URL:https://andrewlondon.co.nz
X-WR-CALDESC:Events for Andrew London
BEGIN:VTIMEZONE
TZID:Pacific/Auckland
BEGIN:STANDARD
TZOFFSETFROM:+1300
TZOFFSETTO:+1200
TZNAME:NZST
DTSTART:20200404T140000
END:STANDARD
BEGIN:DAYLIGHT
TZOFFSETFROM:+1200
TZOFFSETTO:+1300
TZNAME:NZDT
DTSTART:20200926T140000
END:DAYLIGHT
END:VTIMEZONE
BEGIN:VEVENT
DTSTART;TZID=Pacific/Auckland:20200103T200000
DTEND;TZID=Pacific/Auckland:20200103T220000
DTSTAMP:20191218T200644
CREATED:20190723T232604Z
LAST-MODIFIED:20191218T192611Z
UID:1644-1578081600-1578088800@andrewlondon.co.nz
SUMMARY:Andrew London Trio at The Boathouse - Nelson Jazz Festival
DESCRIPTION:Satire and swing with Andrew\, Kirsten and the attractive and talented James Tait Jamieson! Tickets $30.00 from here. \nFacebookTwitterPinterest
URL:https://andrewlondon.co.nz/event/andrew-london-trio-at-nelson-jazz-festival/
LOCATION:The Boathouse Nelson\, 326 Wakefield Quay\, Nelson\, Nelson\, New Zealand
CATEGORIES:Gigs
ATTACH;FMTTYPE=image/jpeg:https://andrewlondon.co.nz/wp-content/uploads/2019/07/ALTJTJ580kb.jpg
ORGANIZER;CN="The%20Boathouse%20Nelson":MAILTO:info@theboathousenelson.co.nz
END:VEVENT
END:VCALENDAR