BEGIN:VCALENDAR
VERSION:2.0
PRODID:-//Andrew London - ECPv4.9.13//NONSGML v1.0//EN
CALSCALE:GREGORIAN
METHOD:PUBLISH
X-WR-CALNAME:Andrew London
X-ORIGINAL-URL:https://andrewlondon.co.nz
X-WR-CALDESC:Events for Andrew London
BEGIN:VTIMEZONE
TZID:Pacific/Auckland
BEGIN:STANDARD
TZOFFSETFROM:+1300
TZOFFSETTO:+1200
TZNAME:NZST
DTSTART:20190406T140000
END:STANDARD
BEGIN:DAYLIGHT
TZOFFSETFROM:+1200
TZOFFSETTO:+1300
TZNAME:NZDT
DTSTART:20190928T140000
END:DAYLIGHT
END:VTIMEZONE
BEGIN:VEVENT
DTSTART;TZID=Pacific/Auckland:20191201T180000
DTEND;TZID=Pacific/Auckland:20191201T200000
DTSTAMP:20191218T195759
CREATED:20190305T044605Z
LAST-MODIFIED:20190305T044605Z
UID:1454-1575223200-1575230400@andrewlondon.co.nz
SUMMARY:Andrew London Trio at The Pavilion
DESCRIPTION:Spring springs into Eastbourne with Tuatara beer and a pizza. Who will join us I wonder? \nFacebookTwitterPinterest
URL:https://andrewlondon.co.nz/event/andrew-london-trio-at-the-pavilion-4/
LOCATION:The Pavillion – Eastbourne\, 611b Marine Drive\, Days Bay\, Wellington\, Eastbourne\, New Zealand
CATEGORIES:Gigs
ATTACH;FMTTYPE=image/jpeg:https://andrewlondon.co.nz/wp-content/uploads/2019/03/rsz_fullsizeoutput_5bf.jpg
ORGANIZER;CN="Pavilion%20Cafe":MAILTO:angus@daysbaypavilion.co.nz
END:VEVENT
END:VCALENDAR