BEGIN:VCALENDAR
VERSION:2.0
PRODID:-//Andrew London - ECPv4.9.13//NONSGML v1.0//EN
CALSCALE:GREGORIAN
METHOD:PUBLISH
X-WR-CALNAME:Andrew London
X-ORIGINAL-URL:https://andrewlondon.co.nz
X-WR-CALDESC:Events for Andrew London
BEGIN:VTIMEZONE
TZID:Pacific/Auckland
BEGIN:STANDARD
TZOFFSETFROM:+1300
TZOFFSETTO:+1200
TZNAME:NZST
DTSTART:20190406T140000
END:STANDARD
BEGIN:DAYLIGHT
TZOFFSETFROM:+1200
TZOFFSETTO:+1300
TZNAME:NZDT
DTSTART:20190928T140000
END:DAYLIGHT
END:VTIMEZONE
BEGIN:VEVENT
DTSTART;TZID=Pacific/Auckland:20191207T193000
DTEND;TZID=Pacific/Auckland:20191207T213000
DTSTAMP:20191218T194534
CREATED:20190916T104336Z
LAST-MODIFIED:20190916T104336Z
UID:1773-1575747000-1575754200@andrewlondon.co.nz
SUMMARY:Cattlestops at Raumati Social Club
DESCRIPTION:Country-flavoured blues & Western swing with Jimmy Ray\, Lucky and Wayney\, at Raymati’s coolest little venue. \n
URL:https://andrewlondon.co.nz/event/cattlestops-at-raumati-social-club-6/
LOCATION:Raumati Social Club\, 34 Poplar Ave\, Raumati\, Kapiti\, 5032
CATEGORIES:Gigs
ATTACH;FMTTYPE=image/jpeg:https://andrewlondon.co.nz/wp-content/uploads/2018/06/IMG_4865.jpg
ORGANIZER;CN="Raumati%20Social%20Club":MAILTO:mattsocialclub@gmail.com
END:VEVENT
END:VCALENDAR