BEGIN:VCALENDAR
VERSION:2.0
PRODID:-//Andrew London - ECPv5.3.1.1//NONSGML v1.0//EN
CALSCALE:GREGORIAN
METHOD:PUBLISH
X-WR-CALNAME:Andrew London
X-ORIGINAL-URL:https://andrewlondon.co.nz
X-WR-CALDESC:Events for Andrew London
BEGIN:VTIMEZONE
TZID:Pacific/Auckland
BEGIN:STANDARD
TZOFFSETFROM:+1300
TZOFFSETTO:+1200
TZNAME:NZST
DTSTART:20210403T140000
END:STANDARD
BEGIN:DAYLIGHT
TZOFFSETFROM:+1200
TZOFFSETTO:+1300
TZNAME:NZDT
DTSTART:20210925T140000
END:DAYLIGHT
END:VTIMEZONE
BEGIN:VEVENT
DTSTART;TZID=Pacific/Auckland:20210122T180000
DTEND;TZID=Pacific/Auckland:20210122T200000
DTSTAMP:20210119T102312
CREATED:20210106T002816Z
LAST-MODIFIED:20210106T002816Z
UID:2876-1611338400-1611345600@andrewlondon.co.nz
SUMMARY:Andrew London Trio on Waimarie Jazz Cruise!
DESCRIPTION:with James Tait-Jamieson – two hour sunset cruise on Whanganui’s classic restored paddle-steamer. Bookings here.
URL:https://andrewlondon.co.nz/event/andrew-london-trio-on-waimarie-jazz-cruise/2021-01-22/
LOCATION:Waimarie Centre\, 1A Taupo Quay\, Whanganui\, Whanganui\, 4500\, New Zealand
CATEGORIES:Gigs
ATTACH;FMTTYPE=image/jpeg:https://andrewlondon.co.nz/wp-content/uploads/2018/06/1471299777904.jpg
ORGANIZER;CN="Waimarie":MAILTO:info@waimarie.co.nz
END:VEVENT
BEGIN:VEVENT
DTSTART;TZID=Pacific/Auckland:20210123T180000
DTEND;TZID=Pacific/Auckland:20210123T200000
DTSTAMP:20210119T102312
CREATED:20210106T002816Z
LAST-MODIFIED:20210106T002816Z
UID:2878-1611424800-1611432000@andrewlondon.co.nz
SUMMARY:Andrew London Trio on Waimarie Jazz Cruise!
DESCRIPTION:with James Tait-Jamieson – two hour sunset cruise on Whanganui’s classic restored paddle-steamer. Bookings here.
URL:https://andrewlondon.co.nz/event/andrew-london-trio-on-waimarie-jazz-cruise/2021-01-23/
LOCATION:Waimarie Centre\, 1A Taupo Quay\, Whanganui\, Whanganui\, 4500\, New Zealand
CATEGORIES:Gigs
ATTACH;FMTTYPE=image/jpeg:https://andrewlondon.co.nz/wp-content/uploads/2018/06/1471299777904.jpg
ORGANIZER;CN="Waimarie":MAILTO:info@waimarie.co.nz
END:VEVENT
BEGIN:VEVENT
DTSTART;TZID=Pacific/Auckland:20210124T180000
DTEND;TZID=Pacific/Auckland:20210124T200000
DTSTAMP:20210119T102312
CREATED:20210106T003031Z
LAST-MODIFIED:20210106T003031Z
UID:2879-1611511200-1611518400@andrewlondon.co.nz
SUMMARY:Andrew London Trio at Pavilion
DESCRIPTION:Watch the sun go down over Wellington City as we swing along with Wayne! Great pizza.
URL:https://andrewlondon.co.nz/event/andrew-london-trio-at-pavilion/
LOCATION:The Pavillion – Eastbourne\, 611b Marine Drive\, Days Bay\, Wellington\, Eastbourne\, New Zealand
CATEGORIES:Gigs
ATTACH;FMTTYPE=image/jpeg:https://andrewlondon.co.nz/wp-content/uploads/2020/07/IMG_20200718_215813.jpeg
ORGANIZER;CN="Pavilion%20Cafe":MAILTO:angus@daysbaypavilion.co.nz
END:VEVENT
BEGIN:VEVENT
DTSTART;TZID=Pacific/Auckland:20210127T083000
DTEND;TZID=Pacific/Auckland:20210127T100000
DTSTAMP:20210119T102312
CREATED:20210106T001605Z
LAST-MODIFIED:20210106T001605Z
UID:2795-1611736200-1611741600@andrewlondon.co.nz
SUMMARY:A & K at Robert Harris Coastlands
DESCRIPTION:Weekly breakfast session with coffee & kai – start of the working week for us!
URL:https://andrewlondon.co.nz/event/a-k-at-robert-harris-coastlands/2021-01-27/
LOCATION:Robert Harris Cafe\, Shop 54\, 150 Rimu Road\, Coastlands Shopping Town\, Paraparaumu\, New Zealand
CATEGORIES:Gigs
ATTACH;FMTTYPE=image/jpeg:https://andrewlondon.co.nz/wp-content/uploads/2020/02/20190412_115413.jpeg
ORGANIZER;CN="Robert%20Harris%20Cafe":MAILTO:rhcr/coastlands@clear.net.nz
END:VEVENT
BEGIN:VEVENT
DTSTART;TZID=Pacific/Auckland:20210129T180000
DTEND;TZID=Pacific/Auckland:20210129T210000
DTSTAMP:20210119T102312
CREATED:20210106T003616Z
LAST-MODIFIED:20210106T003616Z
UID:2882-1611943200-1611954000@andrewlondon.co.nz
SUMMARY:A\, K & Jeremy at Otaki RSA
DESCRIPTION:Bring dancing shoes and/or snooker cue.
URL:https://andrewlondon.co.nz/event/a-k-jeremy-at-otaki-rsa/
LOCATION:Otaki RSA\, 9 Raukawa Street\, Otaki\, Kapiti\, 2110\, New Zealand
CATEGORIES:Gigs
ATTACH;FMTTYPE=image/jpeg:https://andrewlondon.co.nz/wp-content/uploads/2021/01/wedding-396-scaled.jpg
END:VEVENT
BEGIN:VEVENT
DTSTART;TZID=Pacific/Auckland:20210131T160000
DTEND;TZID=Pacific/Auckland:20210131T180000
DTSTAMP:20210119T102312
CREATED:20210106T003802Z
LAST-MODIFIED:20210110T231756Z
UID:2885-1612108800-1612116000@andrewlondon.co.nz
SUMMARY:A & K at Ocean Beach Eatery\, Foxton
DESCRIPTION:Sunday lounge!
URL:https://andrewlondon.co.nz/event/a-k-at-ocean-beach-eatery-foxton/
LOCATION:Ocean Beach Eatery\, 52 Signal St\, Foxton Beach\, 4815\, New Zealand
CATEGORIES:Gigs
ATTACH;FMTTYPE=image/jpeg:https://andrewlondon.co.nz/wp-content/uploads/2020/06/andrew-and-kirsten-banner.jpg
END:VEVENT
BEGIN:VEVENT
DTSTART;TZID=Pacific/Auckland:20210203T083000
DTEND;TZID=Pacific/Auckland:20210203T100000
DTSTAMP:20210119T102312
CREATED:20210106T001605Z
LAST-MODIFIED:20210106T001605Z
UID:2796-1612341000-1612346400@andrewlondon.co.nz
SUMMARY:A & K at Robert Harris Coastlands
DESCRIPTION:Weekly breakfast session with coffee & kai – start of the working week for us!
URL:https://andrewlondon.co.nz/event/a-k-at-robert-harris-coastlands/2021-02-03/
LOCATION:Robert Harris Cafe\, Shop 54\, 150 Rimu Road\, Coastlands Shopping Town\, Paraparaumu\, New Zealand
CATEGORIES:Gigs
ATTACH;FMTTYPE=image/jpeg:https://andrewlondon.co.nz/wp-content/uploads/2020/02/20190412_115413.jpeg
ORGANIZER;CN="Robert%20Harris%20Cafe":MAILTO:rhcr/coastlands@clear.net.nz
END:VEVENT
BEGIN:VEVENT
DTSTART;TZID=Pacific/Auckland:20210204T183000
DTEND;TZID=Pacific/Auckland:20210204T213000
DTSTAMP:20210119T102312
CREATED:20210107T000406Z
LAST-MODIFIED:20210107T000406Z
UID:2896-1612463400-1612474200@andrewlondon.co.nz
SUMMARY:Stationhouse Social Club!
DESCRIPTION:Held every month at the Otaki Golf Club. $45 gets two bands and two courses! Andrew & Kirsten lead the charge\, with the Salty Hearts sharing the bill. Bookings can be made by emailing me for a bank account number.
URL:https://andrewlondon.co.nz/event/stationhouse-social-club-12/
LOCATION:Otaki Golf Club\, 2 Old Coach Rd\, Otaki\, Kapiti\, 5512\, New Zealand
CATEGORIES:Gigs
ORGANIZER;CN="Stationhouse%20Social%20Club":MAILTO:andrewlondon11@gmail.com
END:VEVENT
BEGIN:VEVENT
DTSTART;TZID=Pacific/Auckland:20210207T130000
DTEND;TZID=Pacific/Auckland:20210207T150000
DTSTAMP:20210119T102312
CREATED:20210107T221607Z
LAST-MODIFIED:20210108T004643Z
UID:2927-1612702800-1612710000@andrewlondon.co.nz
SUMMARY:Andrew solo at Dockside
DESCRIPTION:Fighting with the loop pedal\, drinking excellent coffee and gazing out on Wellington Harbour. Book your table here.
URL:https://andrewlondon.co.nz/event/andrew-solo-at-dockside-10-2021-02-07/2021-02-07/
LOCATION:Dockside Restaurant\, Shed 3\, Queens Wharf\, Wellington\, New Zealand
CATEGORIES:Gigs
ATTACH;FMTTYPE=image/jpeg:https://andrewlondon.co.nz/wp-content/uploads/2020/01/IMG_3401-scaled.jpeg
ORGANIZER;CN="Dockside%20Restaurant":MAILTO:dine@docksidenz.com
END:VEVENT
BEGIN:VEVENT
DTSTART;TZID=Pacific/Auckland:20210210T083000
DTEND;TZID=Pacific/Auckland:20210210T100000
DTSTAMP:20210119T102312
CREATED:20210106T001605Z
LAST-MODIFIED:20210106T001605Z
UID:2797-1612945800-1612951200@andrewlondon.co.nz
SUMMARY:A & K at Robert Harris Coastlands
DESCRIPTION:Weekly breakfast session with coffee & kai – start of the working week for us!
URL:https://andrewlondon.co.nz/event/a-k-at-robert-harris-coastlands/2021-02-10/
LOCATION:Robert Harris Cafe\, Shop 54\, 150 Rimu Road\, Coastlands Shopping Town\, Paraparaumu\, New Zealand
CATEGORIES:Gigs
ATTACH;FMTTYPE=image/jpeg:https://andrewlondon.co.nz/wp-content/uploads/2020/02/20190412_115413.jpeg
ORGANIZER;CN="Robert%20Harris%20Cafe":MAILTO:rhcr/coastlands@clear.net.nz
END:VEVENT
BEGIN:VEVENT
DTSTART;TZID=Pacific/Auckland:20210214T120000
DTEND;TZID=Pacific/Auckland:20210214T130000
DTSTAMP:20210119T102312
CREATED:20210107T001134Z
LAST-MODIFIED:20210107T004515Z
UID:2898-1613304000-1613307600@andrewlondon.co.nz
SUMMARY:Andrew London Trio at Island Bay Festival
DESCRIPTION:K and I will be joined by Wayne Mason for this  annual ‘Day in The Bay’.
URL:https://andrewlondon.co.nz/event/andrew-london-trio-at-island-bay-festival/
LOCATION:Shorland Park\, Reef St\, Island Bay\, Wellington\, Wellington\, 6023\, New Zealand
CATEGORIES:Gigs
ATTACH;FMTTYPE=image/jpeg:https://andrewlondon.co.nz/wp-content/uploads/2020/07/IMG_20200718_215813.jpeg
END:VEVENT
BEGIN:VEVENT
DTSTART;TZID=Pacific/Auckland:20210217T083000
DTEND;TZID=Pacific/Auckland:20210217T100000
DTSTAMP:20210119T102312
CREATED:20210106T001605Z
LAST-MODIFIED:20210106T001605Z
UID:2798-1613550600-1613556000@andrewlondon.co.nz
SUMMARY:A & K at Robert Harris Coastlands
DESCRIPTION:Weekly breakfast session with coffee & kai – start of the working week for us!
URL:https://andrewlondon.co.nz/event/a-k-at-robert-harris-coastlands/2021-02-17/
LOCATION:Robert Harris Cafe\, Shop 54\, 150 Rimu Road\, Coastlands Shopping Town\, Paraparaumu\, New Zealand
CATEGORIES:Gigs
ATTACH;FMTTYPE=image/jpeg:https://andrewlondon.co.nz/wp-content/uploads/2020/02/20190412_115413.jpeg
ORGANIZER;CN="Robert%20Harris%20Cafe":MAILTO:rhcr/coastlands@clear.net.nz
END:VEVENT
BEGIN:VEVENT
DTSTART;TZID=Pacific/Auckland:20210219T180000
DTEND;TZID=Pacific/Auckland:20210219T210000
DTSTAMP:20210119T102312
CREATED:20210107T004727Z
LAST-MODIFIED:20210107T223426Z
UID:2902-1613757600-1613768400@andrewlondon.co.nz
SUMMARY:Andrew & Kirsten at Otaki RSA
DESCRIPTION:bring dancing shoes and snooker cues. With impact-player Jeremy Fleming!
URL:https://andrewlondon.co.nz/event/andrew-kirsten-at-otaki-rsa-2/2021-02-19/
LOCATION:Otaki RSA\, 9 Raukawa Street\, Otaki\, Kapiti\, 2110\, New Zealand
CATEGORIES:Gigs
ATTACH;FMTTYPE=image/jpeg:https://andrewlondon.co.nz/wp-content/uploads/2021/01/wedding-396-scaled.jpg
END:VEVENT
BEGIN:VEVENT
DTSTART;TZID=Pacific/Auckland:20210221T153000
DTEND;TZID=Pacific/Auckland:20210221T173000
DTSTAMP:20210119T102312
CREATED:20210107T044821Z
LAST-MODIFIED:20210107T045202Z
UID:2904-1613921400-1613928600@andrewlondon.co.nz
SUMMARY:Too Many Chiefs at the Winey!
DESCRIPTION:The Winemaker’s Daughter has been the scene of many wonderful gigs over the last 20 years; delighted to be presenting the current Too Many Chiefs show – join me\, Rob Joass\, Laura Collins and Wayne Mason\, rendering each others’ songs. Call 06-364-3665 to book a table – entry $20 at the door.
URL:https://andrewlondon.co.nz/event/too-many-chiefs-at-the-winey/
LOCATION:Winemaker’s Daughter\, 1081 State Highway 1\, Te Horo\, Kapiti\, 5581
CATEGORIES:Gigs
ATTACH;FMTTYPE=image/jpeg:https://andrewlondon.co.nz/wp-content/uploads/2017/08/too-many-chiefs-featured.jpg
END:VEVENT
BEGIN:VEVENT
DTSTART;VALUE=DATE:20210223
DTEND;VALUE=DATE:20210227
DTSTAMP:20210119T102312
CREATED:20210107T045504Z
LAST-MODIFIED:20210107T045607Z
UID:2908-1614038400-1614383999@andrewlondon.co.nz
SUMMARY:Notable Tour Whanganui
DESCRIPTION:Refer to Notable Tours Page for details regarding this\, and future tours.
URL:https://andrewlondon.co.nz/event/notable-tour-whanganui/
LOCATION:Whanganui
CATEGORIES:Gigs
ATTACH;FMTTYPE=image/jpeg:https://andrewlondon.co.nz/wp-content/uploads/2020/08/Notable-Whang-flyer-V3.jpg
END:VEVENT
BEGIN:VEVENT
DTSTART;TZID=Pacific/Auckland:20210224T083000
DTEND;TZID=Pacific/Auckland:20210224T100000
DTSTAMP:20210119T102312
CREATED:20210106T001605Z
LAST-MODIFIED:20210107T221938Z
UID:2799-1614155400-1614160800@andrewlondon.co.nz
SUMMARY:A & K at Robert Harris Coastlands
DESCRIPTION:Weekly breakfast session with coffee & kai – start of the working week for us!
URL:https://andrewlondon.co.nz/event/a-k-at-robert-harris-coastlands-2021-02-24/
LOCATION:Robert Harris Cafe\, Shop 54\, 150 Rimu Road\, Coastlands Shopping Town\, Paraparaumu\, New Zealand
CATEGORIES:Gigs
ATTACH;FMTTYPE=image/jpeg:https://andrewlondon.co.nz/wp-content/uploads/2020/02/20190412_115413.jpeg
ORGANIZER;CN="Robert%20Harris%20Cafe":MAILTO:rhcr/coastlands@clear.net.nz
END:VEVENT
BEGIN:VEVENT
DTSTART;TZID=Pacific/Auckland:20210227T160000
DTEND;TZID=Pacific/Auckland:20210227T190000
DTSTAMP:20210119T102312
CREATED:20200909T215644Z
LAST-MODIFIED:20200909T215644Z
UID:2534-1614441600-1614452400@andrewlondon.co.nz
SUMMARY:Whakaipo Summer Concert with Retro Pack!
DESCRIPTION:All your favourite swinging’ tunes from the Great Gatsby and Rat Pack era\, crooned in style by James Tait-Jamieson\, April Phillips\, James Cameron & Andrew London. Come relive the swing era in 1960s Las Vegas with songs popularised by Bobby Darin\, Frank Sinatra\, Ella Fitzgerald and Dean Martin. Andrew & Kirsten open the show with the usual satirical ditties and social commentary. Tickets here.
URL:https://andrewlondon.co.nz/event/whakaipo-summer-concert-with-retro-pack/
LOCATION:Whakaipo Lodge\, 1/504 Mapara Road\, Acacia Bay\, RD5\, Taupo\, 3385
CATEGORIES:Gigs
ATTACH;FMTTYPE=image/jpeg:https://andrewlondon.co.nz/wp-content/uploads/2019/03/Retro-Pack-Image-2.jpg
ORGANIZER;CN="Whakaipo%20Lodge":MAILTO:bookings@whakaipolodge.co.nz
END:VEVENT
BEGIN:VEVENT
DTSTART;TZID=Pacific/Auckland:20210303T083000
DTEND;TZID=Pacific/Auckland:20210303T100000
DTSTAMP:20210119T102312
CREATED:20210106T001605Z
LAST-MODIFIED:20210106T001605Z
UID:2800-1614760200-1614765600@andrewlondon.co.nz
SUMMARY:A & K at Robert Harris Coastlands
DESCRIPTION:Weekly breakfast session with coffee & kai – start of the working week for us!
URL:https://andrewlondon.co.nz/event/a-k-at-robert-harris-coastlands/2021-03-03/
LOCATION:Robert Harris Cafe\, Shop 54\, 150 Rimu Road\, Coastlands Shopping Town\, Paraparaumu\, New Zealand
CATEGORIES:Gigs
ATTACH;FMTTYPE=image/jpeg:https://andrewlondon.co.nz/wp-content/uploads/2020/02/20190412_115413.jpeg
ORGANIZER;CN="Robert%20Harris%20Cafe":MAILTO:rhcr/coastlands@clear.net.nz
END:VEVENT
BEGIN:VEVENT
DTSTART;TZID=Pacific/Auckland:20210304T183000
DTEND;TZID=Pacific/Auckland:20210304T213000
DTSTAMP:20210119T102312
CREATED:20210107T222253Z
LAST-MODIFIED:20210107T222253Z
UID:2936-1614882600-1614893400@andrewlondon.co.nz
SUMMARY:Stationhouse Social Club
DESCRIPTION:At the Otaki Golf Club with A & K & Jeremy plus the Salty Hearts. two bands\, & a fab two-course meal from Grub’s Up. Just $45.00\, email me for details.
URL:https://andrewlondon.co.nz/event/stationhouse-social-club-13/
LOCATION:Otaki Golf Club\, 2 Old Coach Rd\, Otaki\, Kapiti\, 5512\, New Zealand
CATEGORIES:Gigs
ATTACH;FMTTYPE=image/jpeg:https://andrewlondon.co.nz/wp-content/uploads/2020/03/20200305_205848-scaled.jpeg
ORGANIZER;CN="Stationhouse%20Social%20Club":MAILTO:andrewlondon11@gmail.com
END:VEVENT
BEGIN:VEVENT
DTSTART;TZID=Pacific/Auckland:20210310T083000
DTEND;TZID=Pacific/Auckland:20210310T100000
DTSTAMP:20210119T102312
CREATED:20210106T001605Z
LAST-MODIFIED:20210106T001605Z
UID:2801-1615365000-1615370400@andrewlondon.co.nz
SUMMARY:A & K at Robert Harris Coastlands
DESCRIPTION:Weekly breakfast session with coffee & kai – start of the working week for us!
URL:https://andrewlondon.co.nz/event/a-k-at-robert-harris-coastlands/2021-03-10/
LOCATION:Robert Harris Cafe\, Shop 54\, 150 Rimu Road\, Coastlands Shopping Town\, Paraparaumu\, New Zealand
CATEGORIES:Gigs
ATTACH;FMTTYPE=image/jpeg:https://andrewlondon.co.nz/wp-content/uploads/2020/02/20190412_115413.jpeg
ORGANIZER;CN="Robert%20Harris%20Cafe":MAILTO:rhcr/coastlands@clear.net.nz
END:VEVENT
BEGIN:VEVENT
DTSTART;TZID=Pacific/Auckland:20210313T173000
DTEND;TZID=Pacific/Auckland:20210313T193000
DTSTAMP:20210119T102312
CREATED:20210107T222825Z
LAST-MODIFIED:20210107T222825Z
UID:2938-1615656600-1615663800@andrewlondon.co.nz
SUMMARY:Acoustic in The Park!
DESCRIPTION:K and I at MacLean Park in Paraparaumu. Bring a Picnic! Details here.
URL:https://andrewlondon.co.nz/event/acoustic-in-the-park/
LOCATION:Maclean Park\, Marine Parade\, Paraparaumu\, Kapiti Coast\, New Zealand
CATEGORIES:Gigs
ATTACH;FMTTYPE=image/jpeg:https://andrewlondon.co.nz/wp-content/uploads/2020/06/andrew-and-kirsten-banner.jpg
END:VEVENT
BEGIN:VEVENT
DTSTART;TZID=Pacific/Auckland:20210314T130000
DTEND;TZID=Pacific/Auckland:20210314T150000
DTSTAMP:20210119T102312
CREATED:20210107T221607Z
LAST-MODIFIED:20210108T004644Z
UID:2928-1615726800-1615734000@andrewlondon.co.nz
SUMMARY:Andrew solo at Dockside
DESCRIPTION:Fighting with the loop pedal\, drinking excellent coffee and gazing out on Wellington Harbour. Book your table here.
URL:https://andrewlondon.co.nz/event/andrew-solo-at-dockside-10-2021-02-07/2021-03-14/
LOCATION:Dockside Restaurant\, Shed 3\, Queens Wharf\, Wellington\, New Zealand
CATEGORIES:Gigs
ATTACH;FMTTYPE=image/jpeg:https://andrewlondon.co.nz/wp-content/uploads/2020/01/IMG_3401-scaled.jpeg
ORGANIZER;CN="Dockside%20Restaurant":MAILTO:dine@docksidenz.com
END:VEVENT
BEGIN:VEVENT
DTSTART;TZID=Pacific/Auckland:20210317T083000
DTEND;TZID=Pacific/Auckland:20210317T100000
DTSTAMP:20210119T102312
CREATED:20210106T001605Z
LAST-MODIFIED:20210106T001605Z
UID:2802-1615969800-1615975200@andrewlondon.co.nz
SUMMARY:A & K at Robert Harris Coastlands
DESCRIPTION:Weekly breakfast session with coffee & kai – start of the working week for us!
URL:https://andrewlondon.co.nz/event/a-k-at-robert-harris-coastlands/2021-03-17/
LOCATION:Robert Harris Cafe\, Shop 54\, 150 Rimu Road\, Coastlands Shopping Town\, Paraparaumu\, New Zealand
CATEGORIES:Gigs
ATTACH;FMTTYPE=image/jpeg:https://andrewlondon.co.nz/wp-content/uploads/2020/02/20190412_115413.jpeg
ORGANIZER;CN="Robert%20Harris%20Cafe":MAILTO:rhcr/coastlands@clear.net.nz
END:VEVENT
BEGIN:VEVENT
DTSTART;TZID=Pacific/Auckland:20210324T083000
DTEND;TZID=Pacific/Auckland:20210324T100000
DTSTAMP:20210119T102312
CREATED:20210106T001605Z
LAST-MODIFIED:20210106T001605Z
UID:2803-1616574600-1616580000@andrewlondon.co.nz
SUMMARY:A & K at Robert Harris Coastlands
DESCRIPTION:Weekly breakfast session with coffee & kai – start of the working week for us!
URL:https://andrewlondon.co.nz/event/a-k-at-robert-harris-coastlands/2021-03-24/
LOCATION:Robert Harris Cafe\, Shop 54\, 150 Rimu Road\, Coastlands Shopping Town\, Paraparaumu\, New Zealand
CATEGORIES:Gigs
ATTACH;FMTTYPE=image/jpeg:https://andrewlondon.co.nz/wp-content/uploads/2020/02/20190412_115413.jpeg
ORGANIZER;CN="Robert%20Harris%20Cafe":MAILTO:rhcr/coastlands@clear.net.nz
END:VEVENT
BEGIN:VEVENT
DTSTART;TZID=Pacific/Auckland:20210326T180000
DTEND;TZID=Pacific/Auckland:20210326T210000
DTSTAMP:20210119T102312
CREATED:20210107T004727Z
LAST-MODIFIED:20210107T004727Z
UID:2944-1616781600-1616792400@andrewlondon.co.nz
SUMMARY:Andrew & Kirsten at Otaki RSA
DESCRIPTION:bring dancing shoes and snooker cues. With impact-player Jeremy Fleming!
URL:https://andrewlondon.co.nz/event/andrew-kirsten-at-otaki-rsa-2/2021-03-26/
LOCATION:Otaki RSA\, 9 Raukawa Street\, Otaki\, Kapiti\, 2110\, New Zealand
CATEGORIES:Gigs
ATTACH;FMTTYPE=image/jpeg:https://andrewlondon.co.nz/wp-content/uploads/2021/01/wedding-396-scaled.jpg
END:VEVENT
BEGIN:VEVENT
DTSTART;TZID=Pacific/Auckland:20210327T193000
DTEND;TZID=Pacific/Auckland:20210327T213000
DTSTAMP:20210119T102312
CREATED:20210107T224549Z
LAST-MODIFIED:20210107T224549Z
UID:2954-1616873400-1616880600@andrewlondon.co.nz
SUMMARY:Hogsnort Bulldogs Goodtime Show in Carterton
DESCRIPTION:We double-bill with these ’70s icons…yes of course they will play ‘Pretty Girl’\, ‘Everyone Knows’\, Miss September’\, Life Begins at 40′ and of course ‘Aunty Alice’. which\, if you’re as old as me\, will take you right back to the late 60s when these guys were household names. See more about them here.
URL:https://andrewlondon.co.nz/event/hogsnort-bulldogs-goodtime-show-in-carterton/
LOCATION:Carterton Events Centre\, 50 Holloway Street\, Carterton\, Wairarapa\, 5713\, New Zealand
CATEGORIES:Gigs
ATTACH;FMTTYPE=image/jpeg:https://andrewlondon.co.nz/wp-content/uploads/2021/01/1528336-667810-34.jpg
END:VEVENT
BEGIN:VEVENT
DTSTART;TZID=Pacific/Auckland:20210328T160000
DTEND;TZID=Pacific/Auckland:20210328T180000
DTSTAMP:20210119T102312
CREATED:20210107T225405Z
LAST-MODIFIED:20210110T231855Z
UID:2960-1616947200-1616954400@andrewlondon.co.nz
SUMMARY:Duo at Ocean Beach Eatery\, Foxton Beach
DESCRIPTION:Sunday lounge by the beach
URL:https://andrewlondon.co.nz/event/duo-at-ocean-beach-eatery-foxton-beach/
LOCATION:Ocean Beach Eatery\, 52 Signal St\, Foxton Beach\, 4815\, New Zealand
CATEGORIES:Gigs
ATTACH;FMTTYPE=image/jpeg:https://andrewlondon.co.nz/wp-content/uploads/2020/06/andrew-and-kirsten-banner.jpg
END:VEVENT
BEGIN:VEVENT
DTSTART;TZID=Pacific/Auckland:20210331T083000
DTEND;TZID=Pacific/Auckland:20210331T100000
DTSTAMP:20210119T102312
CREATED:20210106T001605Z
LAST-MODIFIED:20210106T001605Z
UID:2804-1617179400-1617184800@andrewlondon.co.nz
SUMMARY:A & K at Robert Harris Coastlands
DESCRIPTION:Weekly breakfast session with coffee & kai – start of the working week for us!
URL:https://andrewlondon.co.nz/event/a-k-at-robert-harris-coastlands/2021-03-31/
LOCATION:Robert Harris Cafe\, Shop 54\, 150 Rimu Road\, Coastlands Shopping Town\, Paraparaumu\, New Zealand
CATEGORIES:Gigs
ATTACH;FMTTYPE=image/jpeg:https://andrewlondon.co.nz/wp-content/uploads/2020/02/20190412_115413.jpeg
ORGANIZER;CN="Robert%20Harris%20Cafe":MAILTO:rhcr/coastlands@clear.net.nz
END:VEVENT
BEGIN:VEVENT
DTSTART;TZID=Pacific/Auckland:20210404T130000
DTEND;TZID=Pacific/Auckland:20210404T150000
DTSTAMP:20210119T102312
CREATED:20210107T221607Z
LAST-MODIFIED:20210108T004644Z
UID:2929-1617541200-1617548400@andrewlondon.co.nz
SUMMARY:Andrew solo at Dockside
DESCRIPTION:Fighting with the loop pedal\, drinking excellent coffee and gazing out on Wellington Harbour. Book your table here.
URL:https://andrewlondon.co.nz/event/andrew-solo-at-dockside-10-2021-02-07/2021-04-04/
LOCATION:Dockside Restaurant\, Shed 3\, Queens Wharf\, Wellington\, New Zealand
CATEGORIES:Gigs
ATTACH;FMTTYPE=image/jpeg:https://andrewlondon.co.nz/wp-content/uploads/2020/01/IMG_3401-scaled.jpeg
ORGANIZER;CN="Dockside%20Restaurant":MAILTO:dine@docksidenz.com
END:VEVENT
BEGIN:VEVENT
DTSTART;VALUE=DATE:20210406
DTEND;VALUE=DATE:20210410
DTSTAMP:20210119T102312
CREATED:20210107T225655Z
LAST-MODIFIED:20210107T225655Z
UID:2962-1617667200-1618012799@andrewlondon.co.nz
SUMMARY:Notable Tour to Napier
DESCRIPTION:See our Notable Tours Page for details!
URL:https://andrewlondon.co.nz/event/notable-tour-to-napier/
LOCATION:Whanganui
CATEGORIES:Gigs
ATTACH;FMTTYPE=image/jpeg:https://andrewlondon.co.nz/wp-content/uploads/2021/01/NT.HB-Flyer-scaled.jpg
END:VEVENT
END:VCALENDAR